BEGIN:VCALENDAR
VERSION:2.0
PRODID:-//Swan Samba - ECPv6.15.20//NONSGML v1.0//EN
CALSCALE:GREGORIAN
METHOD:PUBLISH
X-ORIGINAL-URL:https://swansamba.co.uk
X-WR-CALDESC:Events for Swan Samba
REFRESH-INTERVAL;VALUE=DURATION:PT1H
X-Robots-Tag:noindex
X-PUBLISHED-TTL:PT1H
BEGIN:VTIMEZONE
TZID:Europe/London
BEGIN:DAYLIGHT
TZOFFSETFROM:+0000
TZOFFSETTO:+0100
TZNAME:BST
DTSTART:20210328T010000
END:DAYLIGHT
BEGIN:STANDARD
TZOFFSETFROM:+0100
TZOFFSETTO:+0000
TZNAME:GMT
DTSTART:20211031T010000
END:STANDARD
BEGIN:DAYLIGHT
TZOFFSETFROM:+0000
TZOFFSETTO:+0100
TZNAME:BST
DTSTART:20220327T010000
END:DAYLIGHT
BEGIN:STANDARD
TZOFFSETFROM:+0100
TZOFFSETTO:+0000
TZNAME:GMT
DTSTART:20221030T010000
END:STANDARD
BEGIN:DAYLIGHT
TZOFFSETFROM:+0000
TZOFFSETTO:+0100
TZNAME:BST
DTSTART:20230326T010000
END:DAYLIGHT
BEGIN:STANDARD
TZOFFSETFROM:+0100
TZOFFSETTO:+0000
TZNAME:GMT
DTSTART:20231029T010000
END:STANDARD
BEGIN:DAYLIGHT
TZOFFSETFROM:+0000
TZOFFSETTO:+0100
TZNAME:BST
DTSTART:20240331T010000
END:DAYLIGHT
BEGIN:STANDARD
TZOFFSETFROM:+0100
TZOFFSETTO:+0000
TZNAME:GMT
DTSTART:20241027T010000
END:STANDARD
END:VTIMEZONE
BEGIN:VEVENT
DTSTART;TZID=Europe/London:20230423T144500
DTEND;TZID=Europe/London:20230423T154500
DTSTAMP:20260419T170928
CREATED:20230215T082859Z
LAST-MODIFIED:20230215T082859Z
UID:4695-1682261100-1682264700@swansamba.co.uk
SUMMARY:St. George’s Day procession
DESCRIPTION:Swan Samba will be taking part in the St George’s Day procession in Winchester.
URL:https://swansamba.co.uk/event/st-georges-day-procession/
LOCATION:Winchester Broadway\, The Broadway\, Winchester\, Hampshire\, SO23 9GH\, United Kingdom
ATTACH;FMTTYPE=image/jpeg:https://swansamba.co.uk/wp-content/uploads/winchester.jpg
END:VEVENT
BEGIN:VEVENT
DTSTART;TZID=Europe/London:20230402T100000
DTEND;TZID=Europe/London:20230402T121500
DTSTAMP:20260419T170928
CREATED:20230215T082417Z
LAST-MODIFIED:20230215T082522Z
UID:4692-1680429600-1680437700@swansamba.co.uk
SUMMARY:ABP Southampton Marathon
DESCRIPTION:Swan Samba will be supporting the runners at the ABP Southampton Marathon again this year. \nPhoto credit: southamptonmarathon.co.uk
URL:https://swansamba.co.uk/event/abp-southampton-marathon-2/
LOCATION:Queen’s Park\, Queen’s Park\, Southampton\, United Kingdom
ATTACH;FMTTYPE=image/jpeg:https://swansamba.co.uk/wp-content/uploads/Marathon.jpg
END:VEVENT
BEGIN:VEVENT
DTSTART;TZID=Europe/London:20221201T180000
DTEND;TZID=Europe/London:20221201T193000
DTSTAMP:20260419T170928
CREATED:20221030T131511Z
LAST-MODIFIED:20221030T132922Z
UID:4489-1669917600-1669923000@swansamba.co.uk
SUMMARY:Bishops Waltham Xmas Market
DESCRIPTION:Swan Samba are returning for another drumming and light performance at this incredibly popular festive Christmas community event in the lovely medieval market town of Bishop’s Waltham. \nShops will be open late along with market stalls from local traders. Carols from the local church choir and a visit from Santa.
URL:https://swansamba.co.uk/event/bishops-waltham-xmas-market/
LOCATION:Bishops Waltham High Street\, Cross Street\, Bishops Waltham\, Hampshire\, United Kingdom
ATTACH;FMTTYPE=image/jpeg:https://swansamba.co.uk/wp-content/uploads/263637052_10157820180991065_7753173557618571329_n.jpg
END:VEVENT
BEGIN:VEVENT
DTSTART;TZID=Europe/London:20221126T170000
DTEND;TZID=Europe/London:20221126T200000
DTSTAMP:20260419T170928
CREATED:20220406T111407Z
LAST-MODIFIED:20220716T074803Z
UID:3984-1669482000-1669492800@swansamba.co.uk
SUMMARY:Romsey Winter Procession
DESCRIPTION:Hampshire Band Swan Samba return to Romsey to perform another LED drum show. \nHampshire based Swan Samba are a drumming\, dancing and Brazilian arts organisation open to ages 11+ and all abilities.
URL:https://swansamba.co.uk/event/romsey-winter-procession/
LOCATION:Romsey\, Romsey\, United Kingdom
ATTACH;FMTTYPE=image/jpeg:https://swansamba.co.uk/wp-content/uploads/262676746_10157813849296065_4453584081620003043_n.jpg
END:VEVENT
BEGIN:VEVENT
DTSTART;TZID=Europe/London:20221023T142000
DTEND;TZID=Europe/London:20221023T150000
DTSTAMP:20260419T170929
CREATED:20221115T110554Z
LAST-MODIFIED:20221115T110554Z
UID:4667-1666534800-1666537200@swansamba.co.uk
SUMMARY:Abby’s Heroes Fundraiser West Quay
DESCRIPTION:Swan Samba will be performing at West Quay shopping centre raising money for our favourite charity Abby’s Heroes.
URL:https://swansamba.co.uk/event/abbys-heroes-fundraiser-west-quay/
LOCATION:West Quay Shopping Centre\, West Quay\, Southampton\, Hampshire\, SO15 1QF\, United Kingdom
ATTACH;FMTTYPE=image/jpeg:https://swansamba.co.uk/wp-content/uploads/westquay.jpg
END:VEVENT
BEGIN:VEVENT
DTSTART;TZID=Europe/London:20220924T103500
DTEND;TZID=Europe/London:20220924T111000
DTSTAMP:20260419T170929
CREATED:20220824T123617Z
LAST-MODIFIED:20220824T125207Z
UID:4241-1664015700-1664017800@swansamba.co.uk
SUMMARY:Bishops Waltham Country Fayre
DESCRIPTION:The 2022 Bishops Waltham Country Fayre promises to be even bigger and better with more stalls\, live music throughout the day\, dancing and a variety of food outlets\, real ale\, Prosecco and all the usual favourites including the dog agility\, kids’ crafts corner\, live ferrets\, racing pigs\, and our raffle with loads of fantastic prizes! \nSwan Samba will be performing live to open the Country Fayre in Bishops Waltham\, starting in St Peter’s Street and processing up to the Church for the opening ceremony at 11am. \n\n\n\n\n 
URL:https://swansamba.co.uk/event/bishops-waltham-country-fayre/
LOCATION:Bishops Waltam – St Peters Church\, St Peters Church\, Bishops Waltham\, Southampton\, Hampshire\, SO32 1PW\, United Kingdom
ATTACH;FMTTYPE=image/jpeg:https://swansamba.co.uk/wp-content/uploads/BWFAY-2.jpg
END:VEVENT
BEGIN:VEVENT
DTSTART;TZID=Europe/London:20220807T110000
DTEND;TZID=Europe/London:20220807T160000
DTSTAMP:20260419T170929
CREATED:20220206T125325Z
LAST-MODIFIED:20220716T074742Z
UID:3406-1659870000-1659888000@swansamba.co.uk
SUMMARY:Wickham Festival
DESCRIPTION:Swan Samba return to Wickham Festival\, a 4-day music & arts festival held every August in a stunningly beautiful rural location near the historic village of Wickham in Hampshire. With live music on four stages plus a host of other entertainment\, Wickham is rated by many as one of the safest\, most relaxed and family-friendly festivals in the UK. \nHampshire based Swan Samba are a drumming\, dancing and Brazilian arts organisation open to ages 11+ and all abilities.
URL:https://swansamba.co.uk/event/wickham-festival/
LOCATION:Wickham Festival\, Near Wickham\, Fareham\, PO17 5HD\, United Kingdom
ATTACH;FMTTYPE=image/jpeg:https://swansamba.co.uk/wp-content/uploads/234044592_10158631240820863_7503615434580132350_n.jpg
END:VEVENT
BEGIN:VEVENT
DTSTART;TZID=Europe/London:20220724T120000
DTEND;TZID=Europe/London:20220724T140000
DTSTAMP:20260419T170929
CREATED:20220405T095036Z
LAST-MODIFIED:20220716T074716Z
UID:3970-1658664000-1658671200@swansamba.co.uk
SUMMARY:Eastleigh Mela
DESCRIPTION:Swan Samba will be playing at this year’s Eastleigh Mela Festival. \nThis FREE fantastic family day out with a cultural twist is a firm fixture in Eastleigh’s calendar. Expect an extravaganza of dancing\, colours & music\, children’s activities\, demonstrations\, stalls\, food from around the world and much\, much more. \nHighlights include a Climbing Wall\, Circus skills\, Street Food stalls and Cookery Demos. \nThe main stage will feature a constant programme of live music and dance by both local and national performers. \n“Mela” is the Sanskrit word meaning ‘meeting‘\, ‘fair‘ or ‘gathering‘ and ‘celebrations‘ of all kinds. \nHampshire based Swan Samba are a drumming\, dancing and Brazilian arts organisation open to ages 11+ and all abilities.
URL:https://swansamba.co.uk/event/eastleigh-mela/
LOCATION:Eastleigh Mela\, Leigh Road Recreation Ground\, Eastleigh\, SO50 9DD
ATTACH;FMTTYPE=image/jpeg:https://swansamba.co.uk/wp-content/uploads/AWCAMela.jpg
END:VEVENT
BEGIN:VEVENT
DTSTART;TZID=Europe/London:20220716T180000
DTEND;TZID=Europe/London:20220716T200000
DTSTAMP:20260419T170929
CREATED:20220307T165753Z
LAST-MODIFIED:20220716T074529Z
UID:3931-1657994400-1658001600@swansamba.co.uk
SUMMARY:Rio comes to Romsey
DESCRIPTION:Swan Samba will be taking part in the procession through Romsey on the final day of the Rio comes to Romsey Mardi Gras Carnival. Procession starts in Fishlake Meadows at 6pm and progresses down to the town centre via Dutton’s Road and Station Rd. \nHampshire based Swan Samba are a drumming\, dancing and Brazilian arts organisation open to ages 11+ and all abilities.
URL:https://swansamba.co.uk/event/rio-comes-to-romsey/
LOCATION:Romsey\, Romsey\, United Kingdom
ATTACH;FMTTYPE=image/jpeg:https://swansamba.co.uk/wp-content/uploads/carnival-476816_1280.jpg
END:VEVENT
BEGIN:VEVENT
DTSTART;TZID=Europe/London:20220709T120000
DTEND;TZID=Europe/London:20220709T130000
DTSTAMP:20260419T170929
CREATED:20220218T122206Z
LAST-MODIFIED:20220701T105031Z
UID:3648-1657368000-1657371600@swansamba.co.uk
SUMMARY:Swanmore Fete
DESCRIPTION:Swanmore village fete is a good\, old-fashioned\, traditional village fete. Live Music\, Classic Cars and over 40 stalls including food and drinks. \nFrom the legendary Lions BBQ\, to the Dog Show\, WWII Spitfire fly past\, Live Music\, Children’s Games\, numerous Stalls\, Classic Bikes and Cars\, Beer Tent\, Raffle and and Charity Auction there really is something for everyone.
URL:https://swansamba.co.uk/event/swanmore-fete/
LOCATION:Swanmore\, New Road recreation Ground\, New Road\, Swanmore\, Southampton
ATTACH;FMTTYPE=image/jpeg:https://swansamba.co.uk/wp-content/uploads/246281946_10157735152676065_4082941053881683796_n-e1646657919456.jpg
END:VEVENT
BEGIN:VEVENT
DTSTART;TZID=Europe/London:20220706T130000
DTEND;TZID=Europe/London:20220706T150000
DTSTAMP:20260419T170929
CREATED:20220627T113713Z
LAST-MODIFIED:20220627T113823Z
UID:4178-1657112400-1657119600@swansamba.co.uk
SUMMARY:The Queen’s Baton
DESCRIPTION:Winchester is one of six areas that has been selected within the Southeast region to take part in the Queen’s Baton Relay for this year’s upcoming Commonwealth Games. \nSwan Samba will be drumming the baton in to Winchester.
URL:https://swansamba.co.uk/event/the-queens-baton/
LOCATION:Winchester Sport and Leisure Park\, Bar End Rd\, Bar End\, Winchester\, Hampshire\, SO23 9NR\, United Kingdom
ATTACH;FMTTYPE=image/jpeg:https://swansamba.co.uk/wp-content/uploads/baton.jpg-e1656329894404.jpg
END:VEVENT
BEGIN:VEVENT
DTSTART;TZID=Europe/London:20220702T110000
DTEND;TZID=Europe/London:20220702T112000
DTSTAMP:20260419T170929
CREATED:20220427T132102Z
LAST-MODIFIED:20220629T172809Z
UID:3997-1656759600-1656760800@swansamba.co.uk
SUMMARY:Hat Fair
DESCRIPTION:A family-friendly festival of Street Performance and Outdoor Arts.  The Hat Fair takes place across the historic and charming city of Winchester during the first weekend of July. \nSwan Samba return for a third season at the Hat Fair.
URL:https://swansamba.co.uk/event/hat-fair/
LOCATION:Winchester Broadway\, The Broadway\, Winchester\, Hampshire\, SO23 9GH\, United Kingdom
ATTACH;FMTTYPE=image/jpeg:https://swansamba.co.uk/wp-content/uploads/66411102_122902938963697_1934580409740296192_o.jpg
ORGANIZER;CN="Play to the Crowd":MAILTO:hatfairinfo@playtothecrowd.co.uk
END:VEVENT
BEGIN:VEVENT
DTSTART;TZID=Europe/London:20220619T130000
DTEND;TZID=Europe/London:20220619T134000
DTSTAMP:20260419T170929
CREATED:20220517T154301Z
LAST-MODIFIED:20220718T092135Z
UID:4007-1655643600-1655646000@swansamba.co.uk
SUMMARY:Ageas Bowl
DESCRIPTION:Swan Samba will be playing at Ageas Bowl T20 Vitality Blast Cricket match in Southampton\, where Hampshire Hawks will be playing Surrey. \nimage credit: Ageas Bowl \n 
URL:https://swansamba.co.uk/event/ageas-bowl/
LOCATION:Utilita Bowl\, Utilita Bowl\, Botley Rd\, Southampton\, SO30 3XH\, United Kingdom
ATTACH;FMTTYPE=image/jpeg:https://swansamba.co.uk/wp-content/uploads/agea-e1652802168409.jpg
END:VEVENT
BEGIN:VEVENT
DTSTART;TZID=Europe/London:20220602T162000
DTEND;TZID=Europe/London:20220602T170000
DTSTAMP:20260419T170929
CREATED:20220206T124353Z
LAST-MODIFIED:20220912T172232Z
UID:3398-1654186800-1654189200@swansamba.co.uk
SUMMARY:Romsey Jubilee Street Party ‘100s in the 100’
DESCRIPTION:Join us to celebrate the Queen’s Platinum Jubilee Street Party “100’s In The Hundred” in Romsey\nBring Your Table\, Chairs and Picnic.\nEntertainment\, Music\, Dancing.
URL:https://swansamba.co.uk/event/romsey-jubilee-street-party-100s-in-the-100/
LOCATION:Romsey (The Hundred)\, The Hundred\, Romsey\, Hampshire\, United Kingdom
ATTACH;FMTTYPE=image/jpeg:https://swansamba.co.uk/wp-content/uploads/Romsey.jpg
END:VEVENT
BEGIN:VEVENT
DTSTART;TZID=Europe/London:20220424T100000
DTEND;TZID=Europe/London:20220424T121500
DTSTAMP:20260419T170929
CREATED:20220206T115753Z
LAST-MODIFIED:20220912T182644Z
UID:3390-1650794400-1650802500@swansamba.co.uk
SUMMARY:ABP Southampton Marathon
DESCRIPTION:Swan Samba will be supporting the runners at the ABP Southampton Marathon 2022. \nWe will be located near to the start of the route as the runners pass Queen’s Park. \nPhoto credit: southamptonmarathon.co.uk \n 
URL:https://swansamba.co.uk/event/abp-southampton-marathon/
LOCATION:Queen’s Park\, Queen’s Park\, Southampton\, United Kingdom
ATTACH;FMTTYPE=image/jpeg:https://swansamba.co.uk/wp-content/uploads/Marathon.jpg
END:VEVENT
BEGIN:VEVENT
DTSTART;TZID=Europe/London:20220129T150000
DTEND;TZID=Europe/London:20220129T152000
DTSTAMP:20260419T170929
CREATED:20220206T130011Z
LAST-MODIFIED:20220621T123043Z
UID:3410-1643468400-1643469600@swansamba.co.uk
SUMMARY:George’s Birthday Rockout
DESCRIPTION:George’s Birthday Rockout raising money for George’s Rockstars. \nGeorge’s Rockstars was set up in late 2019 by George’s family with the simple mission to make children in hospital smile as much as George did\, starting with providing music therapy in children’s hospital wards.
URL:https://swansamba.co.uk/event/georges-birthday-rockout/
LOCATION:Jubilee Hall\, Jubilee Hall\, Bishops Waltham\, SO32 1ED\, United Kingdom
ATTACH;FMTTYPE=image/png:https://swansamba.co.uk/wp-content/uploads/GeorgesRockstars.png
END:VEVENT
END:VCALENDAR